BEGIN:VCALENDAR
PRODID:-//eluceo/ical//2.0/EN
VERSION:2.0
CALSCALE:GREGORIAN
BEGIN:VEVENT
UID:4e45eae68c69d919255cb1e6f79fc222
DTSTAMP:20260423T104400Z
SUMMARY:JFGN Speaker from Israel
DESCRIPTION:Jewish Federation of Greater Naples\nCommunity Calendar\nhttps:
 //jewishnaples.org/calendar/jfgn-speaker-from-israel-1621449188\n\nFree pr
 ogram on Zoom
DTSTART;TZID=America/New_York:20210524T123000
DTEND;TZID=America/New_York:20210524T133000
END:VEVENT
END:VCALENDAR
