BEGIN:VCALENDAR
PRODID:-//eluceo/ical//2.0/EN
VERSION:2.0
CALSCALE:GREGORIAN
BEGIN:VEVENT
UID:d8028f1dc7d78edb217dca32d57e0bbb
DTSTAMP:20260423T094201Z
SUMMARY:JFGN Speaker: Bruria Cooperman
DESCRIPTION:Jewish Federation of Greater Naples\nCommunity Calendar\nhttps:
 //jewishnaples.org/calendar/jfgn-speaker-bruria-cooperman-1593184405\n\nJe
 wish Federation of Greater Naples\nGuest Speaker
DTSTART;TZID=America/New_York:20200729T110000
DTEND;TZID=America/New_York:20200729T120000
END:VEVENT
END:VCALENDAR
