BEGIN:VCALENDAR
PRODID:-//eluceo/ical//2.0/EN
VERSION:2.0
CALSCALE:GREGORIAN
BEGIN:VEVENT
UID:aa6aa5e67f832b8f65320b6835f0e763
DTSTAMP:20260424T014026Z
SUMMARY:JFGN Shop with the Sheriff
DESCRIPTION:Jewish Federation of Greater Naples\nCommunity Calendar\nhttps:
 //jewishnaples.org/calendar/jfgn-shop-with-the-sheriff-1535637056\n\nJewis
 h Federation of Greater Naples and the Sheriff's office presents:Shop with
  the Sheriff
DTSTART;TZID=America/New_York:20181218T150000
DTEND;TZID=America/New_York:20181218T170000
END:VEVENT
END:VCALENDAR
