BEGIN:VCALENDAR
PRODID:-//eluceo/ical//2.0/EN
VERSION:2.0
CALSCALE:GREGORIAN
BEGIN:VEVENT
UID:dd799b3254312a448c6a02ad07aa8df7
DTSTAMP:20260420T211018Z
SUMMARY:JFGN Shabbat at Beth Tikvah
DESCRIPTION:Jewish Federation of Greater Naples\nCommunity Calendar\nhttps:
 //jewishnaples.org/calendar/jfgn-shabbat-at-beth-tikvah-1560785244\n\nJoin
  us for the Jewish Federation of Greater Naples Shabbat at Beth Tikvah
DTSTART;TZID=America/New_York:20200111T093000
DTEND;TZID=America/New_York:20200111T113000
END:VEVENT
END:VCALENDAR
