BEGIN:VCALENDAR
PRODID:-//eluceo/ical//2.0/EN
VERSION:2.0
CALSCALE:GREGORIAN
BEGIN:VEVENT
UID:5999a00c2b5d755413ee9ca1a479d05c
DTSTAMP:20260421T183717Z
SUMMARY:JFGN Senior Housing Solutions' Presentation
DESCRIPTION:Jewish Federation of Greater Naples\nCommunity Calendar\nhttps:
 //jewishnaples.org/calendar/jfgn-senior-housing-solutions-presentation-160
 2271332\n\nJFGN\nJoin us to learn more about Senior Housing Solutions
DTSTART;TZID=America/New_York:20210127T100000
DTEND;TZID=America/New_York:20210127T110000
END:VEVENT
END:VCALENDAR
