BEGIN:VCALENDAR
PRODID:-//eluceo/ical//2.0/EN
VERSION:2.0
CALSCALE:GREGORIAN
BEGIN:VEVENT
UID:3a9e0de69dce1398b9b834ee2c6bbfe7
DTSTAMP:20260419T231638Z
SUMMARY:JFGN Save the date
DESCRIPTION:Jewish Federation of Greater Naples\nCommunity Calendar\nhttps:
 //jewishnaples.org/calendar/jfgn-save-the-date-1663694470\n\nJFGN
DTSTART;TZID=America/New_York:20230106T100000
DTEND;TZID=America/New_York:20230106T160000
END:VEVENT
END:VCALENDAR
