BEGIN:VCALENDAR
PRODID:-//eluceo/ical//2.0/EN
VERSION:2.0
CALSCALE:GREGORIAN
BEGIN:VEVENT
UID:4dc67402cfd6a9450c87534fce8aa011
DTSTAMP:20260423T164726Z
SUMMARY:JFGN Rick Recht Concert for All
DESCRIPTION:Jewish Federation of Greater Naples\nCommunity Calendar\nhttps:
 //jewishnaples.org/calendar/jfgn-rick-recht-concert-for-all\n\nJoin us for
  a musical concert led by Rick Recht.\n\nFamily Friendly. Child Friendly.
  \nEveryone is invited to attend.\n\nRegister for this free event so we c
 an plan accordingly.\n\nRegister here!
DTSTART;TZID=America/New_York:20240229T180000
DTEND;TZID=America/New_York:20240229T190000
END:VEVENT
END:VCALENDAR
