BEGIN:VCALENDAR
PRODID:-//eluceo/ical//2.0/EN
VERSION:2.0
CALSCALE:GREGORIAN
BEGIN:VEVENT
UID:dcee0474809c599580ae5888852a47bf
DTSTAMP:20260423T153524Z
SUMMARY:JFGN Rabbi Aiello Presentation
DESCRIPTION:Jewish Federation of Greater Naples\nCommunity Calendar\nhttps:
 //jewishnaples.org/calendar/jfgn-rabbi-aiello-presentation-1609177374\n\nJ
 oin us on Zoom\nAging Jewishly with Rabbi Barbara Aiello
DTSTART;TZID=America/New_York:20210421T140000
DTEND;TZID=America/New_York:20210421T150000
END:VEVENT
END:VCALENDAR
