BEGIN:VCALENDAR
PRODID:-//eluceo/ical//2.0/EN
VERSION:2.0
CALSCALE:GREGORIAN
BEGIN:VEVENT
UID:6f49246ac9f506d56bee7e652dae1a1a
DTSTAMP:20260422T031639Z
SUMMARY:JFGN Rabbi Aiello Presentation
DESCRIPTION:Jewish Federation of Greater Naples\nCommunity Calendar\nhttps:
 //jewishnaples.org/calendar/jfgn-rabbi-aiello-presentation-1603218374\n\nJ
 oin Rabbi Barbara Aiello\, Italy's first woman rabbi\, as she shares selec
 tions from her recently published book\, "Aging Jewishly - What Our Tradit
 ions Tell Us about Growing Old." Rabbi Barbara will highlight the real-lif
 e issues that seniors face as they age and participants will have the oppo
 rtunity to respond to questions and share their concerns.
DTSTART;TZID=America/New_York:20201116T140000
DTEND;TZID=America/New_York:20201116T150000
END:VEVENT
END:VCALENDAR
