BEGIN:VCALENDAR
PRODID:-//eluceo/ical//2.0/EN
VERSION:2.0
CALSCALE:GREGORIAN
BEGIN:VEVENT
UID:45e73fb949b483044a4c8a7568bfee0f
DTSTAMP:20260424T110137Z
SUMMARY:JFGN Program Ross & Makovsky
DESCRIPTION:Jewish Federation of Greater Naples\nCommunity Calendar\nhttps:
 //jewishnaples.org/calendar/jfgn-program-ross-makovsky\n\nIsrael Advocacy 
 Committee invites the entire community to this program.\n\n \n\nAmbassado
 r Dennis Ross and \n\nDavid Makovsky\n\n \n\nWhat can we expect now in t
 he mix of USA\, Israel and the Middle East States?\n\n \n\nMonday\, Dec. 
 7\n\n7 PM\, EST.\n\nCost per household is $10.\n\nRegistration here.\n\n 
 \n\nCome listen to the dynamic duo in conversation. Everyone is invited to
  join us on Zoom to hear Ross & Makovsky in conversation. Q & A will follo
 w.\n\n \n\nAmbassador Dennis Ross\n\nWi...
DTSTART;TZID=America/New_York:20201207T190000
DTEND;TZID=America/New_York:20201207T200000
END:VEVENT
END:VCALENDAR
