BEGIN:VCALENDAR
PRODID:-//eluceo/ical//2.0/EN
VERSION:2.0
CALSCALE:GREGORIAN
BEGIN:VEVENT
UID:c10df18483de04b8a0107bc6d1edacc2
DTSTAMP:20260422T003222Z
SUMMARY:JFGN Program
DESCRIPTION:Jewish Federation of Greater Naples\nCommunity Calendar\nhttps:
 //jewishnaples.org/calendar/jfgn-program-1600886047\n\nJFGN Program
DTSTART;TZID=America/New_York:20201023T110000
DTEND;TZID=America/New_York:20201023T120000
END:VEVENT
END:VCALENDAR
