BEGIN:VCALENDAR
PRODID:-//eluceo/ical//2.0/EN
VERSION:2.0
CALSCALE:GREGORIAN
BEGIN:VEVENT
UID:ef9c3eb42fac99fb79abde30df8dbe8f
DTSTAMP:20260424T074750Z
SUMMARY:JFGN Program
DESCRIPTION:Jewish Federation of Greater Naples\nCommunity Calendar\nhttps:
 //jewishnaples.org/calendar/jfgn-program-1598885018\n\nJFGN Program
DTSTART;TZID=America/New_York:20200929T150000
DTEND;TZID=America/New_York:20200929T170000
END:VEVENT
END:VCALENDAR
