BEGIN:VCALENDAR
PRODID:-//eluceo/ical//2.0/EN
VERSION:2.0
CALSCALE:GREGORIAN
BEGIN:VEVENT
UID:f4405bf2322de92f45df97c069aee24c
DTSTAMP:20260423T140833Z
SUMMARY:JFGN Program
DESCRIPTION:Jewish Federation of Greater Naples\nCommunity Calendar\nhttps:
 //jewishnaples.org/calendar/jfgn-program-1598884061\n\nJFGN Program
DTSTART;TZID=America/New_York:20200915T160000
DTEND;TZID=America/New_York:20200915T163000
END:VEVENT
END:VCALENDAR
