BEGIN:VCALENDAR
PRODID:-//eluceo/ical//2.0/EN
VERSION:2.0
CALSCALE:GREGORIAN
BEGIN:VEVENT
UID:d854ba26626b97abb90f6adf4989c7d3
DTSTAMP:20260423T050838Z
SUMMARY:JFGN Presenter
DESCRIPTION:Jewish Federation of Greater Naples\nCommunity Calendar\nhttps:
 //jewishnaples.org/calendar/jfgn-presenter-1718910886\n\nSave
DTSTART;TZID=America/New_York:20250326T190000
DTEND;TZID=America/New_York:20250326T210000
END:VEVENT
END:VCALENDAR
