BEGIN:VCALENDAR
PRODID:-//eluceo/ical//2.0/EN
VERSION:2.0
CALSCALE:GREGORIAN
BEGIN:VEVENT
UID:2e6e6f1c79922911b9a4eb744ba7671e
DTSTAMP:20260422T175224Z
SUMMARY:JFGN Power of Community Celebration
DESCRIPTION:Jewish Federation of Greater Naples\nCommunity Calendar\nhttps:
 //jewishnaples.org/calendar/jfgn-power-of-community-celebration-1655997776
 \n\nPower of Community Celebration
DTSTART;TZID=America/New_York:20230312T110000
DTEND;TZID=America/New_York:20230312T150000
END:VEVENT
END:VCALENDAR
