BEGIN:VCALENDAR
PRODID:-//eluceo/ical//2.0/EN
VERSION:2.0
CALSCALE:GREGORIAN
BEGIN:VEVENT
UID:2c7b9cac592aa234e062fadc5345867c
DTSTAMP:20260419T232105Z
SUMMARY:JFGN PJ Library Outdoor Sukkot Celebration
DESCRIPTION:Jewish Federation of Greater Naples\nCommunity Calendar\nhttps:
 //jewishnaples.org/calendar/jfgn-pj-library-outdoor-sukkot-celebration-163
 0427916\n\nParents\, bring your young children to the Sukkot celebration i
 n the Park. (Directions to follow) Our young artists will create their own
  sukkot-harvest themed craft with lots of fall colors. Children will cut\,
  tear\, paste and assemble their take home craft\, hear a sukkot story and
  learn all about how we celebrate the harvest\,
DTSTART;TZID=America/New_York:20210926T150000
DTEND;TZID=America/New_York:20210926T160000
END:VEVENT
END:VCALENDAR
