BEGIN:VCALENDAR
PRODID:-//eluceo/ical//2.0/EN
VERSION:2.0
CALSCALE:GREGORIAN
BEGIN:VEVENT
UID:6337119c68c36f87e906e742003592f4
DTSTAMP:20260424T150028Z
SUMMARY:JFGN PJ Library
DESCRIPTION:Jewish Federation of Greater Naples\nCommunity Calendar\nhttps:
 //jewishnaples.org/calendar/jfgn-pj-library-1636133761\n\nPJ Library at th
 e Park
DTSTART;TZID=America/New_York:20211219T150000
DTEND;TZID=America/New_York:20211219T160000
END:VEVENT
END:VCALENDAR
