BEGIN:VCALENDAR
PRODID:-//eluceo/ical//2.0/EN
VERSION:2.0
CALSCALE:GREGORIAN
BEGIN:VEVENT
UID:7bbf5e24ac184f7d0902c968a4ff95b0
DTSTAMP:20260422T165326Z
SUMMARY:JFGN Music Celebration
DESCRIPTION:Jewish Federation of Greater Naples\nCommunity Calendar\nhttps:
 //jewishnaples.org/calendar/jfgn-music-celebration-1618933737\n\nPlease re
 gister
DTSTART;TZID=America/New_York:20210429T120000
DTEND;TZID=America/New_York:20210429T130000
END:VEVENT
END:VCALENDAR
