BEGIN:VCALENDAR
PRODID:-//eluceo/ical//2.0/EN
VERSION:2.0
CALSCALE:GREGORIAN
BEGIN:VEVENT
UID:ab6345515c971b8b88f48958e9eedf68
DTSTAMP:20260422T065300Z
SUMMARY:JFGN Mix and Mingle Potluck Lunch
DESCRIPTION:Jewish Federation of Greater Naples\nCommunity Calendar\nhttps:
 //jewishnaples.org/calendar/jfgn-mix-and-mingle-potluck-lunch-1651154764\n
 \nMix and Mingle lunch
DTSTART;TZID=America/New_York:20220620T123000
DTEND;TZID=America/New_York:20220620T143000
END:VEVENT
END:VCALENDAR
