BEGIN:VCALENDAR
PRODID:-//eluceo/ical//2.0/EN
VERSION:2.0
CALSCALE:GREGORIAN
BEGIN:VEVENT
UID:8b90481456d3af613555de5a9972a6a7
DTSTAMP:20260423T195049Z
SUMMARY:JFGN Mix and Mingle Event
DESCRIPTION:Jewish Federation of Greater Naples\nCommunity Calendar\nhttps:
 //jewishnaples.org/calendar/jfgn-mix-and-mingle-event-1594316333\n\nJFGN\n
 Register for this event!
DTSTART;TZID=America/New_York:20200817T170000
DTEND;TZID=America/New_York:20200817T173000
END:VEVENT
END:VCALENDAR
