BEGIN:VCALENDAR
PRODID:-//eluceo/ical//2.0/EN
VERSION:2.0
CALSCALE:GREGORIAN
BEGIN:VEVENT
UID:d76c6a8ec46e33da0475ea5b78e3ec40
DTSTAMP:20260423T174948Z
SUMMARY:JFGN- Mix and Mingle Artis Baker Museum Tour
DESCRIPTION:Jewish Federation of Greater Naples\nCommunity Calendar\nhttps:
 //jewishnaples.org/calendar/jfgn-mix-and-mingle-artis-baker-museum-tour\n\
 nDocent-guided tour of the Baker Museum for M&M-- meet at the ticket count
 er
DTSTART;TZID=America/New_York:20210718T110000
DTEND;TZID=America/New_York:20210718T133000
END:VEVENT
END:VCALENDAR
