BEGIN:VCALENDAR
PRODID:-//eluceo/ical//2.0/EN
VERSION:2.0
CALSCALE:GREGORIAN
BEGIN:VEVENT
UID:3d99c264616db9fed4cec79d2512eea6
DTSTAMP:20260424T060644Z
SUMMARY:JFGN Mix and Mingle
DESCRIPTION:Jewish Federation of Greater Naples\nCommunity Calendar\nhttps:
 //jewishnaples.org/calendar/jfgn-mix-and-mingle-1642002605\n\nThis is a gr
 eat way to connect with one another. Let's meet on Zoom and catch up with 
 one another. What have you been reading? What movies or shows have you bee
 n watching?\n\nEmail Renee here\n\nAre you 55+ up\, Jewish and single and 
 are looking to meet others? If yes\, then this group is for you.
DTSTART;TZID=America/New_York:20220223T110000
DTEND;TZID=America/New_York:20220223T114500
END:VEVENT
END:VCALENDAR
