BEGIN:VCALENDAR
PRODID:-//eluceo/ical//2.0/EN
VERSION:2.0
CALSCALE:GREGORIAN
BEGIN:VEVENT
UID:919f09de7088aa55264fb7cf9a0087d6
DTSTAMP:20260422T115644Z
SUMMARY:JFGN MCA WCA Eye understand huricanes
DESCRIPTION:Jewish Federation of Greater Naples\nCommunity Calendar\nhttps:
 //jewishnaples.org/calendar/jfgn-mca-wca-eye-understand-huricanes-15973345
 21\n\nI Think Eye Understand Hurricanes\n\npresented by H. Michael "Mike" 
 Mogil\nCertified Consulting Meteorologist and Certified Broadcast Meteorol
 ogist.
DTSTART;TZID=America/New_York:20200910T100000
DTEND;TZID=America/New_York:20200910T113000
END:VEVENT
END:VCALENDAR
