BEGIN:VCALENDAR
PRODID:-//eluceo/ical//2.0/EN
VERSION:2.0
CALSCALE:GREGORIAN
BEGIN:VEVENT
UID:ef3132fb844cc7cf58f8446a65effa90
DTSTAMP:20260421T235731Z
SUMMARY:JFGN Matzah Ball Dance
DESCRIPTION:Jewish Federation of Greater Naples\nCommunity Calendar\nhttps:
 //jewishnaples.org/calendar/jfgn-matzah-ball-dance-1686249955\n\nMatzah Ba
 ll Dance from 7-11 pm.
DTSTART;TZID=America/New_York:20231202T190000
DTEND;TZID=America/New_York:20231202T230000
END:VEVENT
END:VCALENDAR
