BEGIN:VCALENDAR
PRODID:-//eluceo/ical//2.0/EN
VERSION:2.0
CALSCALE:GREGORIAN
BEGIN:VEVENT
UID:5de007202862f37872840c585e0831b0
DTSTAMP:20260424T043639Z
SUMMARY:JFGN Martin Luther King Jr Parade
DESCRIPTION:Jewish Federation of Greater Naples\nCommunity Calendar\nhttps:
 //jewishnaples.org/calendar/jfgn-martin-luther-king-jr-parade-1624387978\n
 \nWalk with us in the MLK Jr. Parade
DTSTART;TZID=America/New_York:20220117T080000
DTEND;TZID=America/New_York:20220117T120000
END:VEVENT
END:VCALENDAR
