BEGIN:VCALENDAR
PRODID:-//eluceo/ical//2.0/EN
VERSION:2.0
CALSCALE:GREGORIAN
BEGIN:VEVENT
UID:8dd1535eb56015ff6b42bd41d8b947f6
DTSTAMP:20260422T082730Z
SUMMARY:JFGN Mandala Coloring
DESCRIPTION:Jewish Federation of Greater Naples\nCommunity Calendar\nhttps:
 //jewishnaples.org/calendar/jfgn-mandala-coloring-1626892598\n\nJFGN Manda
 la Coloring
DTSTART;TZID=America/New_York:20210825T110000
DTEND;TZID=America/New_York:20210825T130000
END:VEVENT
END:VCALENDAR
