BEGIN:VCALENDAR
PRODID:-//eluceo/ical//2.0/EN
VERSION:2.0
CALSCALE:GREGORIAN
BEGIN:VEVENT
UID:cdafbdbc61d4e4bfb88f04e80f5461c6
DTSTAMP:20260422T132829Z
SUMMARY:JFGN Major Gifts & Lion of Judah
DESCRIPTION:Jewish Federation of Greater Naples\nCommunity Calendar\nhttps:
 //jewishnaples.org/calendar/jfgn-major-gifts-lion-of-judah\n\nJFGN
DTSTART;TZID=America/New_York:20230109T170000
DTEND;TZID=America/New_York:20230109T210000
END:VEVENT
END:VCALENDAR
