BEGIN:VCALENDAR
PRODID:-//eluceo/ical//2.0/EN
VERSION:2.0
CALSCALE:GREGORIAN
BEGIN:VEVENT
UID:bad686d2203b27bf6b76742c47e18592
DTSTAMP:20260421T180846Z
SUMMARY:JFGN Major Donors & Lion of Judah Event
DESCRIPTION:Jewish Federation of Greater Naples\nCommunity Calendar\nhttps:
 //jewishnaples.org/calendar/jfgn-major-donors--lion-of-judah-event-1538681
 764\n\nMajor Donors and Lion of Judah Event\nTuesday\, January 8\, 2019\n6
 :00pm\n\nVenue Naples\n13240 Tamiami Trail N\, Suite 205\, Naples 34110\nF
 or more information contact Julie Hartline\, Campaign Associate 239-263-42
 05
DTSTART;TZID=America/New_York:20190108T180000
DTEND;TZID=America/New_York:20190108T200000
END:VEVENT
END:VCALENDAR
