BEGIN:VCALENDAR
PRODID:-//eluceo/ical//2.0/EN
VERSION:2.0
CALSCALE:GREGORIAN
BEGIN:VEVENT
UID:c92d230e59517d7a09a12b2903ba646c
DTSTAMP:20260422T233436Z
SUMMARY:JFGN Maimonides
DESCRIPTION:Jewish Federation of Greater Naples\nCommunity Calendar\nhttps:
 //jewishnaples.org/calendar/jfgn-maimonides-1539369973\n\nMaimonides Medic
 al Society\nFor Jewish people in the medical field\n\nsponsored by the Jew
 ish Federation of Greater Naples\n\nNon-Surgical Approach to Knee Pain\n\n
  \n\nThursday\, December 13th from 12:00-1:00 pm\nAt\nThe Jewish Federati
 on of Greater Naples\n\n \n\nGregory Rubin\, DO is the new Primary Care S
 ports Medicine physician at NCH Healthcare. He will be speaking about the 
 office based treatment of knee pain.\n\n \n\nThis event is open to the co
 mmunity as well as the\nMaimonides Medi...
DTSTART;TZID=America/New_York:20181213T120000
DTEND;TZID=America/New_York:20181213T130000
END:VEVENT
END:VCALENDAR
