BEGIN:VCALENDAR
PRODID:-//eluceo/ical//2.0/EN
VERSION:2.0
CALSCALE:GREGORIAN
BEGIN:VEVENT
UID:515ab878cbc5d2b6462aa29b169320cf
DTSTAMP:20260422T004120Z
SUMMARY:JFGN Lion of Judah Luncheon
DESCRIPTION:Jewish Federation of Greater Naples\nCommunity Calendar\nhttps:
 //jewishnaples.org/calendar/jfgn-lion-of-judah-luncheon-1655997122\n\nLion
  of Judah
DTSTART;TZID=America/New_York:20230222T110000
DTEND;TZID=America/New_York:20230222T140000
END:VEVENT
END:VCALENDAR
