BEGIN:VCALENDAR
PRODID:-//eluceo/ical//2.0/EN
VERSION:2.0
CALSCALE:GREGORIAN
BEGIN:VEVENT
UID:4f95ff1bad2d5f0a9c188891de0704e6
DTSTAMP:20260420T013042Z
SUMMARY:JFGN Kvell with Us
DESCRIPTION:Jewish Federation of Greater Naples\nCommunity Calendar\nhttps:
 //jewishnaples.org/calendar/jfgn-kvell-with-us-1598885221\n\nKvell with us
 !
DTSTART;TZID=America/New_York:20200916T133000
DTEND;TZID=America/New_York:20200916T141500
END:VEVENT
END:VCALENDAR
