BEGIN:VCALENDAR
PRODID:-//eluceo/ical//2.0/EN
VERSION:2.0
CALSCALE:GREGORIAN
BEGIN:VEVENT
UID:d31dd3410272949462b702627fa2a306
DTSTAMP:20260420T175311Z
SUMMARY:JFGN Klezmer Band Concert
DESCRIPTION:Jewish Federation of Greater Naples\nCommunity Calendar\nhttps:
 //jewishnaples.org/calendar/jfgn-klezmer-band-concert-1675787567\n\nNaples
  Klezmer Revival Band Concert at the Library
DTSTART;TZID=America/New_York:20240130T180000
DTEND;TZID=America/New_York:20240130T190000
END:VEVENT
END:VCALENDAR
