BEGIN:VCALENDAR
PRODID:-//eluceo/ical//2.0/EN
VERSION:2.0
CALSCALE:GREGORIAN
BEGIN:VEVENT
UID:54354477aec369ba73b69cc49131bfca
DTSTAMP:20260424T150304Z
SUMMARY:JFGN Kick-Off
DESCRIPTION:Jewish Federation of Greater Naples\nCommunity Calendar\nhttps:
 //jewishnaples.org/calendar/jfgn-kick-off-1636133725\n\n2022 Annual Commun
 ity Campaign Kick-Off\n\nCelebrate Campaign and Community\n\nSunday\, Dece
 mber 19\n2:00 pm\nBBQ\, Live Entertainment\, family-friendly\nat the futur
 e home of Nina Iser Jewish Cultural Center\nTemple Shalom\n4630 Pine Ridge
  Rd\n\nNo Cost to attend with a minimum pledge of $36 pp to 2022 Annual Ca
 mpaign\, otherwise $18 pp\nLimited Space\n\nTo learn more\, please e-mail 
 kwisemayer@jewishnaples.org or call (239) 263-4205
DTSTART;TZID=America/New_York:20211219T140000
DTEND;TZID=America/New_York:20211219T160000
END:VEVENT
END:VCALENDAR
