BEGIN:VCALENDAR
PRODID:-//eluceo/ical//2.0/EN
VERSION:2.0
CALSCALE:GREGORIAN
BEGIN:VEVENT
UID:18ee6c2eb4f099adebf07529ee52a667
DTSTAMP:20260423T201837Z
SUMMARY:Joshua Jay Magic Show
DESCRIPTION:Jewish Federation of Greater Naples\nCommunity Calendar\nhttps:
 //jewishnaples.org/calendar/jfgn-joshua-jay-magic-show-1683229749\n\nPatro
 n reception at 6 pm | Show begins at 7 pm\n\nTickets can  be purchased he
 re:  https://jfgn.regfox.com/a-magical-evening-with-joshua-jay
DTSTART;TZID=America/New_York:20231101T180000
DTEND;TZID=America/New_York:20231101T210000
END:VEVENT
END:VCALENDAR
