BEGIN:VCALENDAR
PRODID:-//eluceo/ical//2.0/EN
VERSION:2.0
CALSCALE:GREGORIAN
BEGIN:VEVENT
UID:ac4604eb206f4e120d1ecf0921fef855
DTSTAMP:20260422T183028Z
SUMMARY:JFGN Jewish Young Professionals Social Time
DESCRIPTION:Jewish Federation of Greater Naples\nCommunity Calendar\nhttps:
 //jewishnaples.org/calendar/jfgn-jewish-young-professionals-social-time-16
 02712625\n\nJFGN\nJewish Young Professionals\nSocial Time
DTSTART;TZID=America/New_York:20201119T190000
DTEND;TZID=America/New_York:20201119T193000
END:VEVENT
END:VCALENDAR
