BEGIN:VCALENDAR
PRODID:-//eluceo/ical//2.0/EN
VERSION:2.0
CALSCALE:GREGORIAN
BEGIN:VEVENT
UID:186a397725b44cefbdd1d25e5c3f7a40
DTSTAMP:20260420T151147Z
SUMMARY:JFGN Jewish Book Festival Dec 14 at 1 pm
DESCRIPTION:Jewish Federation of Greater Naples\nCommunity Calendar\nhttps:
 //jewishnaples.org/calendar/jfgn-jewish-book-festival-dec-14-at-1-pm-16885
 80293\n\nJFGN Jewish Book Festival
DTSTART;TZID=America/New_York:20231214T130000
DTEND;TZID=America/New_York:20231214T140000
END:VEVENT
END:VCALENDAR
