BEGIN:VCALENDAR
PRODID:-//eluceo/ical//2.0/EN
VERSION:2.0
CALSCALE:GREGORIAN
BEGIN:VEVENT
UID:47a602be17050167813bcc6e498f6a5e
DTSTAMP:20260421T224802Z
SUMMARY:JFGN Jewish Book Festival
DESCRIPTION:Jewish Federation of Greater Naples\nCommunity Calendar\nhttps:
 //jewishnaples.org/calendar/jfgn-jewish-book-festival-1619117622\n\nsave t
 he date
DTSTART;TZID=America/New_York:20220216T140000
DTEND;TZID=America/New_York:20220216T150000
END:VEVENT
END:VCALENDAR
