BEGIN:VCALENDAR
PRODID:-//eluceo/ical//2.0/EN
VERSION:2.0
CALSCALE:GREGORIAN
BEGIN:VEVENT
UID:1b94b6a511bdc96dedc2246d96296bb4
DTSTAMP:20260421T233947Z
SUMMARY:JFGN Jewish Book Festival
DESCRIPTION:Jewish Federation of Greater Naples\nCommunity Calendar\nhttps:
 //jewishnaples.org/calendar/jfgn-jewish-book-festival-1619117560\n\nSave t
 he date
DTSTART;TZID=America/New_York:20220210T130000
DTEND;TZID=America/New_York:20220210T140000
END:VEVENT
END:VCALENDAR
