BEGIN:VCALENDAR
PRODID:-//eluceo/ical//2.0/EN
VERSION:2.0
CALSCALE:GREGORIAN
BEGIN:VEVENT
UID:ec9d375a8c9a12374ede952f8108b44d
DTSTAMP:20260422T023017Z
SUMMARY:JFGN Jewish Book Festival
DESCRIPTION:Jewish Federation of Greater Naples\nCommunity Calendar\nhttps:
 //jewishnaples.org/calendar/jfgn-jewish-book-festival-1619117260\n\nsave t
 he date
DTSTART;TZID=America/New_York:20220119T120000
DTEND;TZID=America/New_York:20220119T130000
END:VEVENT
END:VCALENDAR
