BEGIN:VCALENDAR
PRODID:-//eluceo/ical//2.0/EN
VERSION:2.0
CALSCALE:GREGORIAN
BEGIN:VEVENT
UID:23190ad8796fbf196077581b534a7460
DTSTAMP:20260423T134334Z
SUMMARY:JFGN: JCRC's Day of Learning
DESCRIPTION:Jewish Federation of Greater Naples\nCommunity Calendar\nhttps:
 //jewishnaples.org/calendar/jfgn-jcrcs-day-of-learning\n\nJewish Federatio
 n of Greater Naples\nJCRC's Day of Learning
DTSTART;TZID=America/New_York:20210307T140000
DTEND;TZID=America/New_York:20210307T160000
END:VEVENT
END:VCALENDAR
