BEGIN:VCALENDAR
PRODID:-//eluceo/ical//2.0/EN
VERSION:2.0
CALSCALE:GREGORIAN
BEGIN:VEVENT
UID:40d6208716f1615591b0bef9c8aff593
DTSTAMP:20260422T225546Z
SUMMARY:JFGN\, JCRC Feb Meeting
DESCRIPTION:Jewish Federation of Greater Naples\nCommunity Calendar\nhttps:
 //jewishnaples.org/calendar/jfgn-jcrc-feb-meeting\n\nJFGN\, JCRC meeting
DTSTART;TZID=America/New_York:20190225T110000
DTEND;TZID=America/New_York:20190225T130000
END:VEVENT
END:VCALENDAR
