BEGIN:VCALENDAR
PRODID:-//eluceo/ical//2.0/EN
VERSION:2.0
CALSCALE:GREGORIAN
BEGIN:VEVENT
UID:163682b155259e25311fcfa18d4d4fc4
DTSTAMP:20260421T013736Z
SUMMARY:JFGN JBF at TS
DESCRIPTION:Jewish Federation of Greater Naples\nCommunity Calendar\nhttps:
 //jewishnaples.org/calendar/jfgn-jbf-at-ts-1526653482\n\nJFGN JBF afternoo
 n at Temple Shalom
DTSTART;TZID=America/New_York:20190228T130000
DTEND;TZID=America/New_York:20190228T150000
END:VEVENT
END:VCALENDAR
