BEGIN:VCALENDAR
PRODID:-//eluceo/ical//2.0/EN
VERSION:2.0
CALSCALE:GREGORIAN
BEGIN:VEVENT
UID:9d05b2ed84d714e64118228e15de4188
DTSTAMP:20260420T230046Z
SUMMARY:JFGN Jan 4 Major Gifts Lions of Judah Dinner
DESCRIPTION:Jewish Federation of Greater Naples\nCommunity Calendar\nhttps:
 //jewishnaples.org/calendar/jfgn-jan-4-major-gifts-lions-of-judah-dinner\n
 \nJan 4 at 6 pm
DTSTART;TZID=America/New_York:20240104T180000
DTEND;TZID=America/New_York:20240104T200000
END:VEVENT
END:VCALENDAR
