BEGIN:VCALENDAR
PRODID:-//eluceo/ical//2.0/EN
VERSION:2.0
CALSCALE:GREGORIAN
BEGIN:VEVENT
UID:41e67e7e08006a1e5ffb70f5f40a9755
DTSTAMP:20260422T012935Z
SUMMARY:JFGN Israel Night
DESCRIPTION:Jewish Federation of Greater Naples\nCommunity Calendar\nhttps:
 //jewishnaples.org/calendar/jfgn-israel-night\n\nSave the date!\nMore deta
 ils coming soon.\n\n 
DTSTART;TZID=America/New_York:20190306T190000
DTEND;TZID=America/New_York:20190306T210000
END:VEVENT
END:VCALENDAR
