BEGIN:VCALENDAR
PRODID:-//eluceo/ical//2.0/EN
VERSION:2.0
CALSCALE:GREGORIAN
BEGIN:VEVENT
UID:0e47050c12937f7a94957adcc6cb71ca
DTSTAMP:20260424T031730Z
SUMMARY:JFGN Israel Advocacy Event
DESCRIPTION:Jewish Federation of Greater Naples\nCommunity Calendar\nhttps:
 //jewishnaples.org/calendar/jfgn-israel-advocacy-event-1598542984\n\nSave 
 the date. Time TBD
DTSTART;TZID=America/New_York:20201109T093000
DTEND;TZID=America/New_York:20201109T120000
END:VEVENT
END:VCALENDAR
