BEGIN:VCALENDAR
PRODID:-//eluceo/ical//2.0/EN
VERSION:2.0
CALSCALE:GREGORIAN
BEGIN:VEVENT
UID:4d0e0ff34e0cab3f31467b5663b36a1d
DTSTAMP:20260423T205718Z
SUMMARY:JFGN IOC Speaker
DESCRIPTION:Jewish Federation of Greater Naples\nCommunity Calendar\nhttps:
 //jewishnaples.org/calendar/jfgn-ioc-speaker-1689090879\n\nJFGN IOC Speake
 r
DTSTART;TZID=America/New_York:20240228T190000
DTEND;TZID=America/New_York:20240228T210000
END:VEVENT
END:VCALENDAR
