BEGIN:VCALENDAR
PRODID:-//eluceo/ical//2.0/EN
VERSION:2.0
CALSCALE:GREGORIAN
BEGIN:VEVENT
UID:a7e0134efd8fccedb0a63966e9c9e3bd
DTSTAMP:20260422T143315Z
SUMMARY:JFGN\, IAC Program Hand In Hand
DESCRIPTION:Jewish Federation of Greater Naples\nCommunity Calendar\nhttps:
 //jewishnaples.org/calendar/jfgn-iac-program-hand-in-hand\n\nIsrael Advoca
 cy Committee of JFGN and Beth Tikvah\n\npresents\n\nHand In Hand Program-\
 n\n$10 per person\n\nHand In Hand: Center for Jewish-Arab Education in Isr
 ael\n\nBuilding a Shared Society \n\nRefusing To Be Enemies\n\nToday\, our
  network of six bilingual and multicultural schools located throughout the
  country are bringing together more than 1\,500 Jewish and Arab children o
 n a daily basis\, many of whom will become ambassadors of Hand in Hand's v
 ision and will take an active part in creat...
DTSTART;TZID=America/New_York:20180220T190000
DTEND;TZID=America/New_York:20180220T210000
END:VEVENT
END:VCALENDAR
