BEGIN:VCALENDAR
PRODID:-//eluceo/ical//2.0/EN
VERSION:2.0
CALSCALE:GREGORIAN
BEGIN:VEVENT
UID:a498310b43c3bb45863e2b1647e17175
DTSTAMP:20260420T071406Z
SUMMARY:JFGN HOLD
DESCRIPTION:Jewish Federation of Greater Naples\nCommunity Calendar\nhttps:
 //jewishnaples.org/calendar/jfgn-hold-1663174810\n\nJFGN Hold
DTSTART;TZID=America/New_York:20230108T090000
DTEND;TZID=America/New_York:20230108T170000
END:VEVENT
END:VCALENDAR
