BEGIN:VCALENDAR
PRODID:-//eluceo/ical//2.0/EN
VERSION:2.0
CALSCALE:GREGORIAN
BEGIN:VEVENT
UID:17f5b8fea0e1d25fae817a7f9aa7e23b
DTSTAMP:20260423T103644Z
SUMMARY:JFGN Herb Keinon
DESCRIPTION:Jewish Federation of Greater Naples\nCommunity Calendar\nhttps:
 //jewishnaples.org/calendar/jfgn-herb-keinon-1589467711\n\nJewish Federati
 on of Greater Naples\nIsrael Advocacy Committee presents:\nHerb Keinon
DTSTART;TZID=America/New_York:20200713T110000
DTEND;TZID=America/New_York:20200713T120000
END:VEVENT
END:VCALENDAR
