BEGIN:VCALENDAR
PRODID:-//eluceo/ical//2.0/EN
VERSION:2.0
CALSCALE:GREGORIAN
BEGIN:VEVENT
UID:34c9dc41e6b479a28565c20f35a0f764
DTSTAMP:20260423T102436Z
SUMMARY:JFGN Hand In Hand Presentation
DESCRIPTION:Jewish Federation of Greater Naples\nCommunity Calendar\nhttps:
 //jewishnaples.org/calendar/jfgn-hand-in-hand-presentation-1678732523\n\nC
 ome hear this program!
DTSTART;TZID=America/New_York:20230327T100000
DTEND;TZID=America/New_York:20230327T110000
END:VEVENT
END:VCALENDAR
